Package: MAGeCKFlute Version: 2.8.0 Command: rm -rf MAGeCKFlute.buildbin-libdir && mkdir MAGeCKFlute.buildbin-libdir && /Users/biocbuild/BBS/utils/build-universal.sh MAGeCKFlute_2.8.0.tar.gz /Library/Frameworks/R.framework/Resources/bin/R MAGeCKFlute.buildbin-libdir StartedAt: 2024-10-18 19:12:55 -0400 (Fri, 18 Oct 2024) EndedAt: 2024-10-18 19:13:45 -0400 (Fri, 18 Oct 2024) EllapsedTime: 49.7 seconds RetCode: 0 Status: OK PackageFile: MAGeCKFlute_2.8.0.tgz PackageFileSize: 20.79 MiB