Package: MAGAR Version: 1.12.0 Command: chmod a+r MAGAR -R && E:\biocbuild\bbs-3.19-bioc\R\bin\R.exe CMD build --keep-empty-dirs --no-resave-data MAGAR StartedAt: 2024-10-16 20:02:39 -0400 (Wed, 16 Oct 2024) EndedAt: 2024-10-16 20:05:08 -0400 (Wed, 16 Oct 2024) EllapsedTime: 149.6 seconds RetCode: 0 Status: OK PackageFile: MAGAR_1.12.0.tar.gz PackageFileSize: 809.4 KiB