Package: MAGAR Version: 1.12.0 Command: /Library/Frameworks/R.framework/Resources/bin/R CMD check --install=check:MAGAR.install-out.txt --library=/Library/Frameworks/R.framework/Resources/library --no-vignettes --timings MAGAR_1.12.0.tar.gz StartedAt: 2024-10-17 07:35:01 -0400 (Thu, 17 Oct 2024) EndedAt: 2024-10-17 07:57:04 -0400 (Thu, 17 Oct 2024) EllapsedTime: 1323.3 seconds RetCode: 0 Status: OK CheckDir: MAGAR.Rcheck Warnings: 0