Package: MAGAR Version: 1.12.0 Command: rm -rf MAGAR.buildbin-libdir && mkdir MAGAR.buildbin-libdir && /Users/biocbuild/BBS/utils/build-universal.sh MAGAR_1.12.0.tar.gz /Library/Frameworks/R.framework/Resources/bin/R MAGAR.buildbin-libdir StartedAt: 2024-06-10 00:25:01 -0400 (Mon, 10 Jun 2024) EndedAt: 2024-06-10 00:26:31 -0400 (Mon, 10 Jun 2024) EllapsedTime: 90.5 seconds RetCode: 0 Status: OK PackageFile: MAGAR_1.12.0.tgz PackageFileSize: 1.551 MiB