Package: MADSEQ Version: 1.30.0 Command: /Library/Frameworks/R.framework/Resources/bin/R CMD check --install=check:MADSEQ.install-out.txt --library=/Library/Frameworks/R.framework/Resources/library --no-vignettes --timings MADSEQ_1.30.0.tar.gz StartedAt: 2024-06-09 21:14:57 -0400 (Sun, 09 Jun 2024) EndedAt: 2024-06-09 21:20:21 -0400 (Sun, 09 Jun 2024) EllapsedTime: 324.7 seconds RetCode: 0 Status: OK CheckDir: MADSEQ.Rcheck Warnings: 0