Package: MADSEQ Version: 1.30.0 Command: rm -rf MADSEQ.buildbin-libdir && mkdir MADSEQ.buildbin-libdir && /Users/biocbuild/BBS/utils/build-universal.sh MADSEQ_1.30.0.tar.gz /Library/Frameworks/R.framework/Resources/bin/R MADSEQ.buildbin-libdir StartedAt: 2024-06-10 00:25:00 -0400 (Mon, 10 Jun 2024) EndedAt: 2024-06-10 00:26:00 -0400 (Mon, 10 Jun 2024) EllapsedTime: 60.1 seconds RetCode: 0 Status: OK PackageFile: MADSEQ_1.30.0.tgz PackageFileSize: 2.41 MiB