Package: MACSr Version: 1.12.0 Command: rm -rf MACSr.buildbin-libdir && mkdir MACSr.buildbin-libdir && /Users/biocbuild/BBS/utils/build-universal.sh MACSr_1.12.0.tar.gz /Library/Frameworks/R.framework/Resources/bin/R MACSr.buildbin-libdir StartedAt: 2024-10-18 19:12:16 -0400 (Fri, 18 Oct 2024) EndedAt: 2024-10-18 19:12:43 -0400 (Fri, 18 Oct 2024) EllapsedTime: 27.1 seconds RetCode: 0 Status: OK PackageFile: MACSr_1.12.0.tgz PackageFileSize: 1.147 MiB