Package: MACSr Version: 1.12.0 Maintainer: Qiang Hu MaintainerEmail: Qiang.Hu at roswellpark.org git_url: https://git.bioconductor.org/packages/MACSr git_branch: RELEASE_3_19 git_last_commit: 1a4cf27 git_last_commit_date: 2024-04-30 11:31:05 -0400 (Tue, 30 Apr 2024)