Package: MACSQuantifyR Version: 1.18.0 Command: E:\biocbuild\bbs-3.19-bioc\R\bin\R.exe CMD INSTALL MACSQuantifyR StartedAt: 2024-10-16 16:47:34 -0400 (Wed, 16 Oct 2024) EndedAt: 2024-10-16 16:47:49 -0400 (Wed, 16 Oct 2024) EllapsedTime: 14.7 seconds RetCode: 0 Status: OK