Package: MACSQuantifyR Version: 1.18.0 Command: chmod a+r MACSQuantifyR -R && F:\biocbuild\bbs-3.19-bioc\R\bin\R.exe CMD build --keep-empty-dirs --no-resave-data MACSQuantifyR StartedAt: 2024-06-26 19:47:14 -0400 (Wed, 26 Jun 2024) EndedAt: 2024-06-26 19:47:49 -0400 (Wed, 26 Jun 2024) EllapsedTime: 34.6 seconds RetCode: 0 Status: OK PackageFile: MACSQuantifyR_1.18.0.tar.gz PackageFileSize: 3.334 MiB