Package: MACSQuantifyR Version: 1.18.0 Command: rm -rf MACSQuantifyR.buildbin-libdir && mkdir MACSQuantifyR.buildbin-libdir && F:\biocbuild\bbs-3.19-bioc\R\bin\R.exe CMD INSTALL --build --library=MACSQuantifyR.buildbin-libdir MACSQuantifyR_1.18.0.tar.gz StartedAt: 2024-06-27 08:26:23 -0400 (Thu, 27 Jun 2024) EndedAt: 2024-06-27 08:26:50 -0400 (Thu, 27 Jun 2024) EllapsedTime: 27.0 seconds RetCode: 0 Status: OK PackageFile: MACSQuantifyR_1.18.0.zip PackageFileSize: 3.383 MiB