Package: MACSQuantifyR Version: 1.18.0 Command: /Library/Frameworks/R.framework/Resources/bin/R CMD check --install=check:MACSQuantifyR.install-out.txt --library=/Library/Frameworks/R.framework/Resources/library --no-vignettes --timings MACSQuantifyR_1.18.0.tar.gz StartedAt: 2024-10-17 07:34:30 -0400 (Thu, 17 Oct 2024) EndedAt: 2024-10-17 07:36:20 -0400 (Thu, 17 Oct 2024) EllapsedTime: 110.1 seconds RetCode: 0 Status: OK CheckDir: MACSQuantifyR.Rcheck Warnings: 0