Package: MACSQuantifyR Version: 1.18.0 Command: /Library/Frameworks/R.framework/Resources/bin/R CMD build --keep-empty-dirs --no-resave-data MACSQuantifyR StartedAt: 2024-10-16 20:27:34 -0400 (Wed, 16 Oct 2024) EndedAt: 2024-10-16 20:28:34 -0400 (Wed, 16 Oct 2024) EllapsedTime: 60.1 seconds RetCode: 0 Status: OK PackageFile: MACSQuantifyR_1.18.0.tar.gz PackageFileSize: 4.415 MiB