Package: MACSQuantifyR Version: 1.18.0 Command: rm -rf MACSQuantifyR.buildbin-libdir && mkdir MACSQuantifyR.buildbin-libdir && /Users/biocbuild/BBS/utils/build-universal.sh MACSQuantifyR_1.18.0.tar.gz /Library/Frameworks/R.framework/Resources/bin/R MACSQuantifyR.buildbin-libdir StartedAt: 2024-06-11 11:51:51 -0400 (Tue, 11 Jun 2024) EndedAt: 2024-06-11 11:52:05 -0400 (Tue, 11 Jun 2024) EllapsedTime: 13.5 seconds RetCode: 0 Status: OK PackageFile: MACSQuantifyR_1.18.0.tgz PackageFileSize: 4.464 MiB