Package: MACSQuantifyR Version: 1.18.0 Command: /Library/Frameworks/R.framework/Resources/bin/R CMD check --install=check:MACSQuantifyR.install-out.txt --library=/Library/Frameworks/R.framework/Resources/library --no-vignettes --timings MACSQuantifyR_1.18.0.tar.gz StartedAt: 2024-10-18 02:22:06 -0400 (Fri, 18 Oct 2024) EndedAt: 2024-10-18 02:23:03 -0400 (Fri, 18 Oct 2024) EllapsedTime: 56.5 seconds RetCode: 0 Status: OK CheckDir: MACSQuantifyR.Rcheck Warnings: 0