Package: M3C Version: 1.26.0 Command: /Library/Frameworks/R.framework/Resources/bin/R CMD build --keep-empty-dirs --no-resave-data M3C StartedAt: 2024-10-16 20:26:52 -0400 (Wed, 16 Oct 2024) EndedAt: 2024-10-16 20:28:51 -0400 (Wed, 16 Oct 2024) EllapsedTime: 118.2 seconds RetCode: 0 Status: OK PackageFile: M3C_1.26.0.tar.gz PackageFileSize: 588.7 KiB