Package: M3C Version: 1.26.0 Command: /Library/Frameworks/R.framework/Resources/bin/R CMD check --install=check:M3C.install-out.txt --library=/Library/Frameworks/R.framework/Resources/library --no-vignettes --timings M3C_1.26.0.tar.gz StartedAt: 2024-06-09 21:14:10 -0400 (Sun, 09 Jun 2024) EndedAt: 2024-06-09 21:15:46 -0400 (Sun, 09 Jun 2024) EllapsedTime: 96.5 seconds RetCode: 0 Status: OK CheckDir: M3C.Rcheck Warnings: 0