Package: LymphoSeq Version: 1.32.0 Command: chmod a+r LymphoSeq -R && F:\biocbuild\bbs-3.19-bioc\R\bin\R.exe CMD build --keep-empty-dirs --no-resave-data LymphoSeq StartedAt: 2024-06-26 19:46:34 -0400 (Wed, 26 Jun 2024) EndedAt: 2024-06-26 19:48:13 -0400 (Wed, 26 Jun 2024) EllapsedTime: 98.1 seconds RetCode: 0 Status: OK PackageFile: LymphoSeq_1.32.0.tar.gz PackageFileSize: 1.365 MiB