Package: LymphoSeq Version: 1.32.0 Command: /home/biocbuild/bbs-3.19-bioc/R/bin/R CMD build --keep-empty-dirs --no-resave-data LymphoSeq StartedAt: 2024-10-16 19:13:36 -0400 (Wed, 16 Oct 2024) EndedAt: 2024-10-16 19:14:34 -0400 (Wed, 16 Oct 2024) EllapsedTime: 58.1 seconds RetCode: 0 Status: OK PackageFile: LymphoSeq_1.32.0.tar.gz PackageFileSize: 1.97 MiB