Package: LymphoSeq Version: 1.32.0 Command: /Library/Frameworks/R.framework/Resources/bin/R CMD build --keep-empty-dirs --no-resave-data LymphoSeq StartedAt: 2024-10-16 20:26:51 -0400 (Wed, 16 Oct 2024) EndedAt: 2024-10-16 20:29:16 -0400 (Wed, 16 Oct 2024) EllapsedTime: 145.0 seconds RetCode: 0 Status: OK PackageFile: LymphoSeq_1.32.0.tar.gz PackageFileSize: 2.357 MiB