Package: LoomExperiment Version: 1.22.0 Command: chmod a+r LoomExperiment -R && E:\biocbuild\bbs-3.19-bioc\R\bin\R.exe CMD build --keep-empty-dirs --no-resave-data LoomExperiment StartedAt: 2024-10-16 20:00:55 -0400 (Wed, 16 Oct 2024) EndedAt: 2024-10-16 20:01:58 -0400 (Wed, 16 Oct 2024) EllapsedTime: 62.8 seconds RetCode: 0 Status: OK PackageFile: LoomExperiment_1.22.0.tar.gz PackageFileSize: 253 KiB