Package: LoomExperiment Version: 1.22.0 Command: /Library/Frameworks/R.framework/Resources/bin/R CMD check --install=check:LoomExperiment.install-out.txt --library=/Library/Frameworks/R.framework/Resources/library --no-vignettes --timings LoomExperiment_1.22.0.tar.gz StartedAt: 2024-06-09 21:13:10 -0400 (Sun, 09 Jun 2024) EndedAt: 2024-06-09 21:16:46 -0400 (Sun, 09 Jun 2024) EllapsedTime: 216.2 seconds RetCode: 0 Status: OK CheckDir: LoomExperiment.Rcheck Warnings: 0