Package: LiquidAssociation Version: 1.58.0 Command: E:\biocbuild\bbs-3.19-bioc\R\bin\R.exe CMD INSTALL LiquidAssociation StartedAt: 2024-10-16 16:15:59 -0400 (Wed, 16 Oct 2024) EndedAt: 2024-10-16 16:16:42 -0400 (Wed, 16 Oct 2024) EllapsedTime: 43.0 seconds RetCode: 0 Status: OK