Package: LiquidAssociation Version: 1.58.0 Command: chmod a+r LiquidAssociation -R && E:\biocbuild\bbs-3.19-bioc\R\bin\R.exe CMD build --keep-empty-dirs --no-resave-data LiquidAssociation StartedAt: 2024-10-16 20:00:11 -0400 (Wed, 16 Oct 2024) EndedAt: 2024-10-16 20:00:51 -0400 (Wed, 16 Oct 2024) EllapsedTime: 39.4 seconds RetCode: 0 Status: OK PackageFile: LiquidAssociation_1.58.0.tar.gz PackageFileSize: 174.3 KiB