Package: LiquidAssociation Version: 1.58.0 Command: chmod a+r LiquidAssociation -R && F:\biocbuild\bbs-3.19-bioc\R\bin\R.exe CMD build --keep-empty-dirs --no-resave-data LiquidAssociation StartedAt: 2024-06-26 19:45:38 -0400 (Wed, 26 Jun 2024) EndedAt: 2024-06-26 19:46:22 -0400 (Wed, 26 Jun 2024) EllapsedTime: 43.6 seconds RetCode: 0 Status: OK PackageFile: LiquidAssociation_1.58.0.tar.gz PackageFileSize: 173.8 KiB