Package: LiquidAssociation Version: 1.58.0 Command: rm -rf LiquidAssociation.buildbin-libdir && mkdir LiquidAssociation.buildbin-libdir && F:\biocbuild\bbs-3.19-bioc\R\bin\R.exe CMD INSTALL --build --library=LiquidAssociation.buildbin-libdir LiquidAssociation_1.58.0.tar.gz StartedAt: 2024-06-27 08:25:42 -0400 (Thu, 27 Jun 2024) EndedAt: 2024-06-27 08:26:29 -0400 (Thu, 27 Jun 2024) EllapsedTime: 47.5 seconds RetCode: 0 Status: OK PackageFile: LiquidAssociation_1.58.0.zip PackageFileSize: 396 KiB