Package: LiquidAssociation Version: 1.58.0 Command: /home/biocbuild/bbs-3.19-bioc/R/bin/R CMD INSTALL LiquidAssociation StartedAt: 2024-10-16 16:01:47 -0400 (Wed, 16 Oct 2024) EndedAt: 2024-10-16 16:02:01 -0400 (Wed, 16 Oct 2024) EllapsedTime: 14.1 seconds RetCode: 0 Status: OK