Package: LiquidAssociation Version: 1.58.0 Command: /home/biocbuild/bbs-3.19-bioc/R/bin/R CMD check --install=check:LiquidAssociation.install-out.txt --library=/home/biocbuild/bbs-3.19-bioc/R/site-library --timings LiquidAssociation_1.58.0.tar.gz StartedAt: 2024-10-17 01:54:02 -0400 (Thu, 17 Oct 2024) EndedAt: 2024-10-17 01:55:52 -0400 (Thu, 17 Oct 2024) EllapsedTime: 109.2 seconds RetCode: 0 Status: OK CheckDir: LiquidAssociation.Rcheck Warnings: 0