Package: LiquidAssociation Version: 1.58.0 Command: /Library/Frameworks/R.framework/Resources/bin/R CMD check --install=check:LiquidAssociation.install-out.txt --library=/Library/Frameworks/R.framework/Resources/library --no-vignettes --timings LiquidAssociation_1.58.0.tar.gz StartedAt: 2024-10-17 07:27:30 -0400 (Thu, 17 Oct 2024) EndedAt: 2024-10-17 07:31:28 -0400 (Thu, 17 Oct 2024) EllapsedTime: 238.0 seconds RetCode: 0 Status: OK CheckDir: LiquidAssociation.Rcheck Warnings: 0