Package: LiquidAssociation Version: 1.58.0 Command: /home/biocbuild/R/R-beta-2024-04-15_r86425/bin/R CMD INSTALL LiquidAssociation StartedAt: 2024-05-08 20:18:48 -0000 (Wed, 08 May 2024) EndedAt: 2024-05-08 20:19:12 -0000 (Wed, 08 May 2024) EllapsedTime: 23.9 seconds RetCode: 0 Status: OK