Package: LiquidAssociation Version: 1.58.0 Command: /home/biocbuild/R/R-beta-2024-04-15_r86425/bin/R CMD check --install=check:LiquidAssociation.install-out.txt --library=/home/biocbuild/R/R-beta-2024-04-15_r86425/site-library --no-vignettes --timings LiquidAssociation_1.58.0.tar.gz StartedAt: 2024-05-09 08:52:50 -0000 (Thu, 09 May 2024) EndedAt: 2024-05-09 08:54:58 -0000 (Thu, 09 May 2024) EllapsedTime: 128.2 seconds RetCode: 0 Status: OK CheckDir: LiquidAssociation.Rcheck Warnings: 0