Package: LiquidAssociation Version: 1.58.0 Command: /home/biocbuild/R/R-beta-2024-04-15_r86425/bin/R CMD build --keep-empty-dirs --no-resave-data LiquidAssociation StartedAt: 2024-05-09 01:17:08 -0000 (Thu, 09 May 2024) EndedAt: 2024-05-09 01:17:46 -0000 (Thu, 09 May 2024) EllapsedTime: 38.0 seconds RetCode: 0 Status: OK PackageFile: LiquidAssociation_1.58.0.tar.gz PackageFileSize: 275.4 KiB