Package: LiquidAssociation Version: 1.58.0 Command: /Library/Frameworks/R.framework/Resources/bin/R CMD check --install=check:LiquidAssociation.install-out.txt --library=/Library/Frameworks/R.framework/Resources/library --no-vignettes --timings LiquidAssociation_1.58.0.tar.gz StartedAt: 2024-06-10 20:11:38 -0400 (Mon, 10 Jun 2024) EndedAt: 2024-06-10 20:14:24 -0400 (Mon, 10 Jun 2024) EllapsedTime: 166.9 seconds RetCode: 0 Status: OK CheckDir: LiquidAssociation.Rcheck Warnings: 0