Package: LiquidAssociation Version: 1.58.0 Command: rm -rf LiquidAssociation.buildbin-libdir && mkdir LiquidAssociation.buildbin-libdir && /Users/biocbuild/BBS/utils/build-universal.sh LiquidAssociation_1.58.0.tar.gz /Library/Frameworks/R.framework/Resources/bin/R LiquidAssociation.buildbin-libdir StartedAt: 2024-06-11 11:50:11 -0400 (Tue, 11 Jun 2024) EndedAt: 2024-06-11 11:50:39 -0400 (Tue, 11 Jun 2024) EllapsedTime: 28.5 seconds RetCode: 0 Status: OK PackageFile: LiquidAssociation_1.58.0.tgz PackageFileSize: 504.1 KiB