Package: LiquidAssociation Version: 1.58.0 Command: /Library/Frameworks/R.framework/Resources/bin/R CMD INSTALL LiquidAssociation StartedAt: 2024-10-16 16:13:31 -0400 (Wed, 16 Oct 2024) EndedAt: 2024-10-16 16:13:48 -0400 (Wed, 16 Oct 2024) EllapsedTime: 17.3 seconds RetCode: 0 Status: OK