Package: Linnorm Version: 2.28.0 Command: E:\biocbuild\bbs-3.19-bioc\R\bin\R.exe CMD check --no-multiarch --install=check:Linnorm.install-out.txt --library=E:\biocbuild\bbs-3.19-bioc\R\library --no-vignettes --timings Linnorm_2.28.0.tar.gz StartedAt: 2024-10-17 02:46:57 -0400 (Thu, 17 Oct 2024) EndedAt: 2024-10-17 02:54:30 -0400 (Thu, 17 Oct 2024) EllapsedTime: 453.2 seconds RetCode: 0 Status: OK CheckDir: Linnorm.Rcheck Warnings: 0