Package: Linnorm Version: 2.28.0 Command: F:\biocbuild\bbs-3.19-bioc\R\bin\R.exe CMD INSTALL Linnorm StartedAt: 2024-06-26 15:47:55 -0400 (Wed, 26 Jun 2024) EndedAt: 2024-06-26 15:48:33 -0400 (Wed, 26 Jun 2024) EllapsedTime: 38.4 seconds RetCode: 0 Status: OK