Package: Linnorm Version: 2.28.0 Command: chmod a+r Linnorm -R && F:\biocbuild\bbs-3.19-bioc\R\bin\R.exe CMD build --keep-empty-dirs --no-resave-data Linnorm StartedAt: 2024-06-26 19:45:00 -0400 (Wed, 26 Jun 2024) EndedAt: 2024-06-26 19:50:40 -0400 (Wed, 26 Jun 2024) EllapsedTime: 339.7 seconds RetCode: 0 Status: OK PackageFile: Linnorm_2.28.0.tar.gz PackageFileSize: 4.111 MiB