Package: Linnorm Version: 2.28.0 Command: rm -rf Linnorm.buildbin-libdir && mkdir Linnorm.buildbin-libdir && F:\biocbuild\bbs-3.19-bioc\R\bin\R.exe CMD INSTALL --build --library=Linnorm.buildbin-libdir Linnorm_2.28.0.tar.gz StartedAt: 2024-06-27 08:25:33 -0400 (Thu, 27 Jun 2024) EndedAt: 2024-06-27 08:26:12 -0400 (Thu, 27 Jun 2024) EllapsedTime: 38.9 seconds RetCode: 0 Status: OK PackageFile: Linnorm_2.28.0.zip PackageFileSize: 4.618 MiB