Package: Linnorm Version: 2.28.0 Command: /home/biocbuild/bbs-3.19-bioc/R/bin/R CMD INSTALL Linnorm StartedAt: 2024-10-16 15:55:34 -0400 (Wed, 16 Oct 2024) EndedAt: 2024-10-16 15:55:54 -0400 (Wed, 16 Oct 2024) EllapsedTime: 20.6 seconds RetCode: 0 Status: OK