Package: Linnorm Version: 2.28.0 Command: /Library/Frameworks/R.framework/Resources/bin/R CMD check --install=check:Linnorm.install-out.txt --library=/Library/Frameworks/R.framework/Resources/library --no-vignettes --timings Linnorm_2.28.0.tar.gz StartedAt: 2024-06-09 21:11:59 -0400 (Sun, 09 Jun 2024) EndedAt: 2024-06-09 21:17:45 -0400 (Sun, 09 Jun 2024) EllapsedTime: 345.4 seconds RetCode: 0 Status: OK CheckDir: Linnorm.Rcheck Warnings: 0