Package: Linnorm Version: 2.28.0 Command: /Library/Frameworks/R.framework/Resources/bin/R CMD build --keep-empty-dirs --no-resave-data Linnorm StartedAt: 2024-06-09 17:06:20 -0400 (Sun, 09 Jun 2024) EndedAt: 2024-06-09 17:10:21 -0400 (Sun, 09 Jun 2024) EllapsedTime: 241.9 seconds RetCode: 0 Status: OK PackageFile: Linnorm_2.28.0.tar.gz PackageFileSize: 4.109 MiB