Package: Linnorm Version: 2.28.0 Command: /home/biocbuild/R/R-beta-2024-04-15_r86425/bin/R CMD build --keep-empty-dirs --no-resave-data Linnorm StartedAt: 2024-05-09 01:16:24 -0000 (Thu, 09 May 2024) EndedAt: 2024-05-09 01:22:20 -0000 (Thu, 09 May 2024) EllapsedTime: 355.5 seconds RetCode: 0 Status: OK PackageFile: Linnorm_2.28.0.tar.gz PackageFileSize: 4.077 MiB