Package: Linnorm Version: 2.28.0 Command: /Library/Frameworks/R.framework/Resources/bin/R CMD INSTALL Linnorm StartedAt: 2024-06-09 15:24:22 -0400 (Sun, 09 Jun 2024) EndedAt: 2024-06-09 15:24:53 -0400 (Sun, 09 Jun 2024) EllapsedTime: 30.7 seconds RetCode: 0 Status: OK