Package: Linnorm Version: 2.28.0 Command: rm -rf Linnorm.buildbin-libdir && mkdir Linnorm.buildbin-libdir && /Users/biocbuild/BBS/utils/build-universal.sh Linnorm_2.28.0.tar.gz /Library/Frameworks/R.framework/Resources/bin/R Linnorm.buildbin-libdir StartedAt: 2024-06-11 11:49:45 -0400 (Tue, 11 Jun 2024) EndedAt: 2024-06-11 11:50:26 -0400 (Tue, 11 Jun 2024) EllapsedTime: 40.7 seconds RetCode: 0 Status: OK PackageFile: Linnorm_2.28.0.tgz PackageFileSize: 4.309 MiB