Package: Linnorm Version: 2.28.0 Command: /Library/Frameworks/R.framework/Resources/bin/R CMD INSTALL Linnorm StartedAt: 2024-10-16 16:04:34 -0400 (Wed, 16 Oct 2024) EndedAt: 2024-10-16 16:04:57 -0400 (Wed, 16 Oct 2024) EllapsedTime: 23.4 seconds RetCode: 0 Status: OK