Package: Linnorm Version: 2.28.0 Command: /Library/Frameworks/R.framework/Resources/bin/R CMD build --keep-empty-dirs --no-resave-data Linnorm StartedAt: 2024-10-17 03:15:45 -0400 (Thu, 17 Oct 2024) EndedAt: 2024-10-17 03:20:24 -0400 (Thu, 17 Oct 2024) EllapsedTime: 279.6 seconds RetCode: 0 Status: OK PackageFile: Linnorm_2.28.0.tar.gz PackageFileSize: 4.108 MiB