Package: Linnorm Version: 2.28.0 Maintainer: Shun Hang Yip MaintainerEmail: shunyip at bu.edu git_url: https://git.bioconductor.org/packages/Linnorm git_branch: RELEASE_3_19 git_last_commit: 3f0791c git_last_commit_date: 2024-04-30 10:50:02 -0400 (Tue, 30 Apr 2024)