Package: LinkHD Version: 1.18.0 Command: chmod a+r LinkHD -R && E:\biocbuild\bbs-3.19-bioc\R\bin\R.exe CMD build --keep-empty-dirs --no-resave-data LinkHD StartedAt: 2024-10-16 19:59:31 -0400 (Wed, 16 Oct 2024) EndedAt: 2024-10-16 20:00:48 -0400 (Wed, 16 Oct 2024) EllapsedTime: 76.5 seconds RetCode: 0 Status: OK PackageFile: LinkHD_1.18.0.tar.gz PackageFileSize: 1.815 MiB