Package: LinkHD Version: 1.18.0 Command: /Library/Frameworks/R.framework/Resources/bin/R CMD check --install=check:LinkHD.install-out.txt --library=/Library/Frameworks/R.framework/Resources/library --no-vignettes --timings LinkHD_1.18.0.tar.gz StartedAt: 2024-10-17 07:26:36 -0400 (Thu, 17 Oct 2024) EndedAt: 2024-10-17 07:34:28 -0400 (Thu, 17 Oct 2024) EllapsedTime: 472.7 seconds RetCode: 0 Status: OK CheckDir: LinkHD.Rcheck Warnings: 0